BEGIN:VCALENDAR
VERSION:2.0
PRODID:-//hacksw/handcal//NONSGML v1.0//EN
CALSCALE:GREGORIAN
BEGIN:VTIMEZONE
TZID:America/New_York
BEGIN:DAYLIGHT
TZOFFSETFROM:-0600
TZNAME:MDT
TZOFFSETTO:-0600
END:DAYLIGHT
END:VTIMEZONE
DTSTAMP:20260425T135106Z
UID:69ecff0a1ddbf
BEGIN:VEVENT
LOCATION:Marion County Public Library, 201 E. Main St., Lebanon, KY US 40033
DESCRIPTION:<p>Learn a game as a family. This month we will be learning&nbsp;</p>
DTSTART;TZID=America/New_York:20260429T170000
DTEND;TZID=America/New_York:20260429T180000
SUMMARY:Family Game Night 
URL;VALUE=URI:/family-game-night-0
END:VEVENT
END:VCALENDAR