BEGIN:VCALENDAR
VERSION:2.0
PRODID:-//hacksw/handcal//NONSGML v1.0//EN
CALSCALE:GREGORIAN
BEGIN:VTIMEZONE
TZID:America/New_York
BEGIN:DAYLIGHT
TZOFFSETFROM:-0600
TZNAME:MDT
TZOFFSETTO:-0600
END:DAYLIGHT
END:VTIMEZONE
DTSTAMP:20260423T103039Z
UID:69ea2d0f56f0c
BEGIN:VEVENT
LOCATION:Marion County Public Library, 201 E. Main St., Lebanon, KY US 40033
DESCRIPTION:<p><meta charset="utf-8"></p><p style="line-height:1.38;margin-bottom:0pt;margin-top:0pt;" dir="ltr"><meta charset="utf-8"><span style="background-color:transparent;color:#000000;font-family:Arial,sans-serif;font-size:11pt;font-style:normal;font-variant:normal;font-weight:400;text-decoration:none;vertical-align:baseline;white-space:pre-wrap;">Award-winning and bestselling author Miranda Cowley Heller takes us on an intimate journey through the life stages of a woman in her new poetry collection,&nbsp;</span><em><span style="background-color:transparent;color:#000000;font-family:Arial,sans-serif;font-size:11pt;font-variant:normal;font-weight:400;text-decoration:none;vertical-align:baseline;white-space:pre-wrap;">What the Deep Water Knows</span></em><span style="background-color:transparent;color:#000000;font-family:Arial,sans-serif;font-size:11pt;font-style:normal;font-variant:normal;font-weight:400;text-decoration:none;vertical-align:baseline;white-space:pre-wrap;">. Wednesday, April 22nd at 2 PM ET / 1 PM CT / 12 PM MT / 11 AM PT</span><span style="background-color:transparent;color:#000000;font-family:Arial,sans-serif;font-size:11pt;font-style:normal;font-variant:normal;text-decoration:none;vertical-align:baseline;white-space:pre-wrap;"><strong>&nbsp;</strong></span><span style="background-color:transparent;color:#000000;font-family:Arial,sans-serif;font-size:11pt;font-style:normal;font-variant:normal;font-weight:400;text-decoration:none;vertical-align:baseline;white-space:pre-wrap;">via digital live-stream in partnership with Marion County Public Library. </span></p>
DTSTART;TZID=America/New_York:20260422T140000
DTEND;TZID=America/New_York:20260422T150000
SUMMARY:Author Talks: Miranda Cowley Heller
URL;VALUE=URI:/author-talks-miranda-cowley-heller-0
END:VEVENT
END:VCALENDAR