BEGIN:VCALENDAR
VERSION:2.0
PRODID:-//hacksw/handcal//NONSGML v1.0//EN
CALSCALE:GREGORIAN
BEGIN:VTIMEZONE
TZID:America/New_York
BEGIN:DAYLIGHT
TZOFFSETFROM:-0600
TZNAME:MDT
TZOFFSETTO:-0600
END:DAYLIGHT
END:VTIMEZONE
DTSTAMP:20260425T132508Z
UID:69ecf8f4dc6a8
BEGIN:VEVENT
LOCATION:Marion County Public Library, 201 E. Main St., Lebanon, KY US 40033
DESCRIPTION:<p><meta charset="utf-8"><span style="background-color:transparent;color:#000000;font-family:Arial,sans-serif;font-size:11pt;font-style:normal;font-variant:normal;font-weight:400;text-decoration:none;vertical-align:baseline;white-space:pre-wrap;">Join us in conversation with bestselling author Jason Reynolds as we discuss his latest work,&nbsp;</span><em><span style="background-color:transparent;color:#000000;font-family:Arial,sans-serif;font-size:11pt;font-variant:normal;font-weight:400;text-decoration:none;vertical-align:baseline;white-space:pre-wrap;">Coach</span></em><span style="background-color:transparent;color:#000000;font-family:Arial,sans-serif;font-size:11pt;font-style:normal;font-variant:normal;font-weight:400;text-decoration:none;vertical-align:baseline;white-space:pre-wrap;">, the fifth, and last, entry in the highly popular&nbsp;</span><em><span style="background-color:transparent;color:#000000;font-family:Arial,sans-serif;font-size:11pt;font-variant:normal;font-weight:400;text-decoration:none;vertical-align:baseline;white-space:pre-wrap;">Track</span></em><span style="background-color:transparent;color:#000000;font-family:Arial,sans-serif;font-size:11pt;font-style:normal;font-variant:normal;font-weight:400;text-decoration:none;vertical-align:baseline;white-space:pre-wrap;"> series. Following the immersive stories of Ghost, Lu, Patina, and Sunny, it’s finally time for Coach to shine in his own book as we discover: Who was Coach before he became an inspiring leader? ONLINE&nbsp;</span><span style="background-color:transparent;color:#212529;font-family:Arial,sans-serif;font-size:11pt;font-style:normal;font-variant:normal;font-weight:400;text-decoration:none;vertical-align:baseline;white-space:pre-wrap;">Thursday, April 30th&nbsp;</span><span style="background-color:transparent;color:#000000;font-family:Arial,sans-serif;font-size:11pt;font-style:normal;font-variant:normal;font-weight:400;text-decoration:none;vertical-align:baseline;white-space:pre-wrap;">at 7 PM ET / 6 PM CT / 5 PM MT / 4 PM PT via digital live-stream in partnership with Marion County Public Library!</span><span style="background-color:#ffffff;color:#000000;font-family:Arial,sans-serif;font-size:11pt;font-style:normal;font-variant:normal;font-weight:400;text-decoration:none;vertical-align:baseline;white-space:pre-wrap;">&nbsp;</span></p>
DTSTART;TZID=America/New_York:20260430T190000
DTEND;TZID=America/New_York:20260430T200000
SUMMARY:Author Talks: Jason Reynolds
URL;VALUE=URI:/author-talks-jason-reynolds-0
END:VEVENT
END:VCALENDAR